BEGIN:VCALENDAR
VERSION:2.0
PRODID:-//CMSP - ECPv6.15.20//NONSGML v1.0//EN
CALSCALE:GREGORIAN
METHOD:PUBLISH
X-WR-CALNAME:CMSP
X-ORIGINAL-URL:https://cmspcounties.org
X-WR-CALDESC:Events for CMSP
REFRESH-INTERVAL;VALUE=DURATION:PT1H
X-Robots-Tag:noindex
X-PUBLISHED-TTL:PT1H
BEGIN:VTIMEZONE
TZID:America/Los_Angeles
BEGIN:DAYLIGHT
TZOFFSETFROM:-0800
TZOFFSETTO:-0700
TZNAME:PDT
DTSTART:20200308T100000
END:DAYLIGHT
BEGIN:STANDARD
TZOFFSETFROM:-0700
TZOFFSETTO:-0800
TZNAME:PST
DTSTART:20201101T090000
END:STANDARD
BEGIN:DAYLIGHT
TZOFFSETFROM:-0800
TZOFFSETTO:-0700
TZNAME:PDT
DTSTART:20210314T100000
END:DAYLIGHT
BEGIN:STANDARD
TZOFFSETFROM:-0700
TZOFFSETTO:-0800
TZNAME:PST
DTSTART:20211107T090000
END:STANDARD
BEGIN:DAYLIGHT
TZOFFSETFROM:-0800
TZOFFSETTO:-0700
TZNAME:PDT
DTSTART:20220313T100000
END:DAYLIGHT
BEGIN:STANDARD
TZOFFSETFROM:-0700
TZOFFSETTO:-0800
TZNAME:PST
DTSTART:20221106T090000
END:STANDARD
BEGIN:DAYLIGHT
TZOFFSETFROM:-0800
TZOFFSETTO:-0700
TZNAME:PDT
DTSTART:20230312T100000
END:DAYLIGHT
BEGIN:STANDARD
TZOFFSETFROM:-0700
TZOFFSETTO:-0800
TZNAME:PST
DTSTART:20231105T090000
END:STANDARD
BEGIN:DAYLIGHT
TZOFFSETFROM:-0800
TZOFFSETTO:-0700
TZNAME:PDT
DTSTART:20240310T100000
END:DAYLIGHT
BEGIN:STANDARD
TZOFFSETFROM:-0700
TZOFFSETTO:-0800
TZNAME:PST
DTSTART:20241103T090000
END:STANDARD
BEGIN:DAYLIGHT
TZOFFSETFROM:-0800
TZOFFSETTO:-0700
TZNAME:PDT
DTSTART:20250309T100000
END:DAYLIGHT
BEGIN:STANDARD
TZOFFSETFROM:-0700
TZOFFSETTO:-0800
TZNAME:PST
DTSTART:20251102T090000
END:STANDARD
BEGIN:DAYLIGHT
TZOFFSETFROM:-0800
TZOFFSETTO:-0700
TZNAME:PDT
DTSTART:20260308T100000
END:DAYLIGHT
BEGIN:STANDARD
TZOFFSETFROM:-0700
TZOFFSETTO:-0800
TZNAME:PST
DTSTART:20261101T090000
END:STANDARD
END:VTIMEZONE
BEGIN:VEVENT
DTSTART;TZID=America/Los_Angeles:20250228T090000
DTEND;TZID=America/Los_Angeles:20250228T110000
DTSTAMP:20260420T074148
CREATED:20250127T181956Z
LAST-MODIFIED:20250306T170507Z
UID:10000003-1740733200-1740740400@cmspcounties.org
SUMMARY:Planning and Benefits Committee Meeting
DESCRIPTION:The Planning and Benefits Committee focuses on current CMSP policy and program issues and future direction. Included within its scope of responsibility are benefits design and coverage matters as well as pilot projects and alternative products. All actions of the Committee are advisory to the Governing Board \n  \nPlanning & Benefits Agenda and Meeting Materials
URL:https://cmspcounties.org/event/planning-and-benefits-committee-meeting/
LOCATION:CMSP Governing Board Conference Room\, 1545 River Park Drive\, Suite 435-A\, Sacramento\, CA\, 95815\, United States
CATEGORIES:Planning & Benefits Meeting
END:VEVENT
BEGIN:VEVENT
DTSTART;TZID=America/Los_Angeles:20250122T093000
DTEND;TZID=America/Los_Angeles:20250122T123000
DTSTAMP:20260420T074148
CREATED:20241212T195341Z
LAST-MODIFIED:20250213T193029Z
UID:10000051-1737538200-1737549000@cmspcounties.org
SUMMARY:Governing Board Meeting
DESCRIPTION:The Governing Board has responsibility for setting program eligibility standards\, defining the scope of covered healthcare benefits\, and determining payment rates for healthcare providers delivering emergency and non-emergency services to CMSP members. \nGoverning Board Agenda
URL:https://cmspcounties.org/event/governing-board-meeting-35/
LOCATION:Hybrid: CMSP Conference Room or Zoom (Optional)\, 1545 River Park Drive\, Suite 435-A\, Sacramento\, 95815\, United States
CATEGORIES:Governing Board Meeting
END:VEVENT
BEGIN:VEVENT
DTSTART;TZID=America/Los_Angeles:20241212T093000
DTEND;TZID=America/Los_Angeles:20241212T123000
DTSTAMP:20260420T074148
CREATED:20231215T225012Z
LAST-MODIFIED:20241209T162613Z
UID:10000049-1733995800-1734006600@cmspcounties.org
SUMMARY:Governing Board Meeting
DESCRIPTION:The Governing Board has responsibility for setting program eligibility standards\, defining the scope of covered healthcare benefits\, and determining payment rates for healthcare providers delivering emergency and non-emergency services to CMSP members. \nGoverning Board Meeting Agenda – December 12\, 2024
URL:https://cmspcounties.org/event/governing-board-meeting-34/
LOCATION:Hybrid: CMSP Conference Room or Zoom (Optional)\, 1545 River Park Drive\, Suite 435-A\, Sacramento\, 95815\, United States
CATEGORIES:Governing Board Meeting
END:VEVENT
BEGIN:VEVENT
DTSTART;TZID=America/Los_Angeles:20240926T093000
DTEND;TZID=America/Los_Angeles:20240926T123000
DTSTAMP:20260420T074148
CREATED:20231215T224922Z
LAST-MODIFIED:20240923T155351Z
UID:10000048-1727343000-1727353800@cmspcounties.org
SUMMARY:Governing Board Meeting
DESCRIPTION:The Governing Board has responsibility for setting program eligibility standards\, defining the scope of covered healthcare benefits\, and determining payment rates for healthcare providers delivering emergency and non-emergency services to CMSP members. \nGoverning Board Meeting Agenda
URL:https://cmspcounties.org/event/governing-board-meeting-33/
LOCATION:Hybrid: CMSP Conference Room or Zoom (Optional)\, 1545 River Park Drive\, Suite 435-A\, Sacramento\, 95815\, United States
CATEGORIES:Governing Board Meeting
END:VEVENT
BEGIN:VEVENT
DTSTART;TZID=America/Los_Angeles:20240725T093000
DTEND;TZID=America/Los_Angeles:20240725T123000
DTSTAMP:20260420T074148
CREATED:20231215T224848Z
LAST-MODIFIED:20240725T220012Z
UID:10000047-1721899800-1721910600@cmspcounties.org
SUMMARY:Governing Board Meeting
DESCRIPTION:The Governing Board has responsibility for setting program eligibility standards\, defining the scope of covered healthcare benefits\, and determining payment rates for healthcare providers delivering emergency and non-emergency services to CMSP members. \nGoverning Board Meeting Agenda
URL:https://cmspcounties.org/event/governing-board-meeting-32/
LOCATION:Hybrid: CMSP Conference Room or Zoom (Optional)\, 1545 River Park Drive\, Suite 435-A\, Sacramento\, 95815\, United States
CATEGORIES:Governing Board Meeting
END:VEVENT
BEGIN:VEVENT
DTSTART;TZID=America/Los_Angeles:20240523T093000
DTEND;TZID=America/Los_Angeles:20240523T123000
DTSTAMP:20260420T074148
CREATED:20231215T224736Z
LAST-MODIFIED:20240528T162440Z
UID:10000036-1716456600-1716467400@cmspcounties.org
SUMMARY:Governing Board Meeting
DESCRIPTION:The Governing Board has responsibility for setting program eligibility standards\, defining the scope of covered healthcare benefits\, and determining payment rates for healthcare providers delivering emergency and non-emergency services to CMSP members. \nGoverning Board Meeting Agenda
URL:https://cmspcounties.org/event/governing-board-meeting-31/
LOCATION:Hybrid: CMSP Conference Room or Zoom (Optional)\, 1545 River Park Drive\, Suite 435-A\, Sacramento\, 95815\, United States
CATEGORIES:Governing Board Meeting
END:VEVENT
BEGIN:VEVENT
DTSTART;TZID=America/Los_Angeles:20240403T083000
DTEND;TZID=America/Los_Angeles:20240403T153000
DTSTAMP:20260420T074148
CREATED:20240328T205916Z
LAST-MODIFIED:20240328T205916Z
UID:10000050-1712133000-1712158200@cmspcounties.org
SUMMARY:CMSP Healthcare Workforce Convening
DESCRIPTION:Dr. Janet Coffman of the UCSF Healthforce Center will present new findings on the availability of healthcare professionals in the 35 CMSP counties – health care\, oral health\, and behavioral health – and the current educational pathways for these health professions in CMSP counties. Small group breakouts will discuss findings and offer recommendations to the CMSP Governing Board for possible next steps by the Board. \nUCSF Healthforce Center’s “The Healthcare Workforce Landscape in County Medical Services Program (CMSP) & Rural County Representatives of California (RCRC) Counties” report is available at https://cmspcounties.org/healthcare-workforce-information/ \nCMSP Healthcare Workforce Convening Agenda – April 3\, 2024
URL:https://cmspcounties.org/event/cmsp-healthcare-workforce-convening/
LOCATION:Hybrid Event: DoubleTree Hotel Sacramento or Zoom\, 2001 Point West Way\, Sacramento\, CA\, 95815\, United States
CATEGORIES:Workforce Convening
END:VEVENT
BEGIN:VEVENT
DTSTART;TZID=America/Los_Angeles:20240328T093000
DTEND;TZID=America/Los_Angeles:20240328T123000
DTSTAMP:20260420T074148
CREATED:20231215T224659Z
LAST-MODIFIED:20240328T232850Z
UID:10000023-1711618200-1711629000@cmspcounties.org
SUMMARY:Governing Board Meeting
DESCRIPTION:The Governing Board has responsibility for setting program eligibility standards\, defining the scope of covered healthcare benefits\, and determining payment rates for healthcare providers delivering emergency and non-emergency services to CMSP members. \nGoverning Board Meeting Agenda – March 28\, 2024
URL:https://cmspcounties.org/event/governing-board-meeting-30/
LOCATION:Hybrid: CMSP Conference Room or Zoom (Optional)\, 1545 River Park Drive\, Suite 435-A\, Sacramento\, 95815\, United States
CATEGORIES:Governing Board Meeting
END:VEVENT
BEGIN:VEVENT
DTSTART;TZID=America/Los_Angeles:20240125T093000
DTEND;TZID=America/Los_Angeles:20240125T123000
DTSTAMP:20260420T074148
CREATED:20231215T224540Z
LAST-MODIFIED:20240126T183716Z
UID:10000024-1706175000-1706185800@cmspcounties.org
SUMMARY:Governing Board Meeting
DESCRIPTION:The Governing Board has responsibility for setting program eligibility standards\, defining the scope of covered healthcare benefits\, and determining payment rates for healthcare providers delivering emergency and non-emergency services to CMSP members. \nGoverning Board Meeting Agenda – Thursday\, January 25\, 2024
URL:https://cmspcounties.org/event/governing-board-meeting-29/
LOCATION:Hybrid: CMSP Conference Room or Zoom (Optional)\, 1545 River Park Drive\, Suite 435-A\, Sacramento\, 95815\, United States
CATEGORIES:Governing Board Meeting
END:VEVENT
BEGIN:VEVENT
DTSTART;TZID=America/Los_Angeles:20231214T093000
DTEND;TZID=America/Los_Angeles:20231214T123000
DTSTAMP:20260420T074148
CREATED:20220922T205232Z
LAST-MODIFIED:20231214T233604Z
UID:10000034-1702546200-1702557000@cmspcounties.org
SUMMARY:Governing Board Meeting
DESCRIPTION:The Governing Board has responsibility for setting program eligibility standards\, defining the scope of covered healthcare benefits\, and determining payment rates for healthcare providers delivering emergency and non-emergency services to CMSP members. \nGoverning Board Meeting Agenda – December 14\, 2023
URL:https://cmspcounties.org/event/governing-board-meeting-28/
LOCATION:Hybrid: CMSP Conference Room or Zoom (Optional)\, 1545 River Park Drive\, Suite 435-A\, Sacramento\, 95815\, United States
CATEGORIES:Governing Board Meeting
END:VEVENT
BEGIN:VEVENT
DTSTART;TZID=America/Los_Angeles:20230928T093000
DTEND;TZID=America/Los_Angeles:20230928T123000
DTSTAMP:20260420T074148
CREATED:20220922T205208Z
LAST-MODIFIED:20230929T172328Z
UID:10000046-1695893400-1695904200@cmspcounties.org
SUMMARY:Governing Board Meeting
DESCRIPTION:The Governing Board has responsibility for setting program eligibility standards\, defining the scope of covered healthcare benefits\, and determining payment rates for healthcare providers delivering emergency and non-emergency services to CMSP members. \nGoverning Board Meeting Agenda – September 28\, 2023
URL:https://cmspcounties.org/event/governing-board-meeting-27/
LOCATION:Hybrid: CMSP Conference Room or Zoom (Optional)\, 1545 River Park Drive\, Suite 435-A\, Sacramento\, 95815\, United States
CATEGORIES:Governing Board Meeting
END:VEVENT
BEGIN:VEVENT
DTSTART;TZID=America/Los_Angeles:20230831T100000
DTEND;TZID=America/Los_Angeles:20230831T120000
DTSTAMP:20260420T074148
CREATED:20230725T200046Z
LAST-MODIFIED:20230901T183639Z
UID:10000038-1693476000-1693483200@cmspcounties.org
SUMMARY:Eligibility Committee Meeting
DESCRIPTION:The Eligibility Committee focuses on current program and policy matters associated with member eligibility for the program. Matters that are considered by the Eligibility Committee are either directed to the committee by the Governing Board or initiated by the committee itself. All actions by the committee are advisory to the Governing Board\, which considers committee recommendations at its regularly scheduled meetings. \nEligibility Committee Agenda
URL:https://cmspcounties.org/event/eligibility-committee-meeting/
LOCATION:Hybrid: CMSP Conference Room or Zoom (Optional)\, 1545 River Park Drive\, Suite 435-A\, Sacramento\, 95815\, United States
CATEGORIES:Eligibility Committee Meeting
END:VEVENT
BEGIN:VEVENT
DTSTART;TZID=America/Los_Angeles:20230727T093000
DTEND;TZID=America/Los_Angeles:20230727T123000
DTSTAMP:20260420T074148
CREATED:20220922T205144Z
LAST-MODIFIED:20230727T183923Z
UID:10000025-1690450200-1690461000@cmspcounties.org
SUMMARY:Governing Board Meeting
DESCRIPTION:The Governing Board has responsibility for setting program eligibility standards\, defining the scope of covered healthcare benefits\, and determining payment rates for healthcare providers delivering emergency and non-emergency services to CMSP members. \nGoverning Board Meeting Agenda – July 27\, 2023
URL:https://cmspcounties.org/event/governing-board-meeting-26/
LOCATION:Hybrid: CMSP Conference Room or Zoom (Optional)\, 1545 River Park Drive\, Suite 435-A\, Sacramento\, 95815\, United States
CATEGORIES:Governing Board Meeting
END:VEVENT
BEGIN:VEVENT
DTSTART;TZID=America/Los_Angeles:20230525T093000
DTEND;TZID=America/Los_Angeles:20230525T123000
DTSTAMP:20260420T074148
CREATED:20220922T205010Z
LAST-MODIFIED:20230525T233832Z
UID:10000015-1685007000-1685017800@cmspcounties.org
SUMMARY:Governing Board Meeting
DESCRIPTION:The Governing Board has responsibility for setting program eligibility standards\, defining the scope of covered healthcare benefits\, and determining payment rates for healthcare providers delivering emergency and non-emergency services to CMSP members. \nGoverning Board Meeting Agenda – May 25\, 2023
URL:https://cmspcounties.org/event/governing-board-meeting-25/
LOCATION:Hybrid: CMSP Conference Room or Zoom (Optional)\, 1545 River Park Drive\, Suite 435-A\, Sacramento\, 95815\, United States
CATEGORIES:Governing Board Meeting
END:VEVENT
BEGIN:VEVENT
DTSTART;TZID=America/Los_Angeles:20230323T083000
DTEND;TZID=America/Los_Angeles:20230323T113000
DTSTAMP:20260420T074148
CREATED:20220922T204947Z
LAST-MODIFIED:20230323T184903Z
UID:10000022-1679560200-1679571000@cmspcounties.org
SUMMARY:Governing Board Meeting
DESCRIPTION:The Governing Board has responsibility for setting program eligibility standards\, defining the scope of covered healthcare benefits\, and determining payment rates for healthcare providers delivering emergency and non-emergency services to CMSP members. \nGoverning Board Meeting Agenda – March 23\, 2023
URL:https://cmspcounties.org/event/governing-board-meeting-24/
LOCATION:Hybrid: CMSP Conference Room or Zoom (Optional)\, 1545 River Park Drive\, Suite 435-A\, Sacramento\, 95815\, United States
CATEGORIES:Governing Board Meeting
END:VEVENT
BEGIN:VEVENT
DTSTART;TZID=America/Los_Angeles:20230126T093000
DTEND;TZID=America/Los_Angeles:20230126T123000
DTSTAMP:20260420T074148
CREATED:20220922T195905Z
LAST-MODIFIED:20230126T191300Z
UID:10000014-1674725400-1674736200@cmspcounties.org
SUMMARY:Governing Board Meeting
DESCRIPTION:The Governing Board has responsibility for setting program eligibility standards\, defining the scope of covered healthcare benefits\, and determining payment rates for healthcare providers delivering emergency and non-emergency services to CMSP members. \nGoverning Board Meeting Agenda
URL:https://cmspcounties.org/event/governing-board-meeting-23/
LOCATION:Hybrid: CMSP Conference Room or Zoom (Optional)\, 1545 River Park Drive\, Suite 435-A\, Sacramento\, 95815\, United States
CATEGORIES:Governing Board Meeting
END:VEVENT
BEGIN:VEVENT
DTSTART;TZID=America/Los_Angeles:20221215T093000
DTEND;TZID=America/Los_Angeles:20221215T120000
DTSTAMP:20260420T074148
CREATED:20211008T185904Z
LAST-MODIFIED:20221219T172839Z
UID:10000007-1671096600-1671105600@cmspcounties.org
SUMMARY:Governing Board Meeting
DESCRIPTION:The Governing Board has responsibility for setting program eligibility standards\, defining the scope of covered healthcare benefits\, and determining payment rates for healthcare providers delivering emergency and non-emergency services to CMSP members. \nGoverning Board Meeting Agenda
URL:https://cmspcounties.org/event/governing-board-meeting-22/
LOCATION:Hybrid: CMSP Conference Room or Zoom (Optional)\, 1545 River Park Drive\, Suite 435-A\, Sacramento\, 95815\, United States
CATEGORIES:Governing Board Meeting
END:VEVENT
BEGIN:VEVENT
DTSTART;TZID=America/Los_Angeles:20220922T083000
DTEND;TZID=America/Los_Angeles:20220922T110000
DTSTAMP:20260420T074148
CREATED:20211008T185828Z
LAST-MODIFIED:20220923T183126Z
UID:10000008-1663835400-1663844400@cmspcounties.org
SUMMARY:Governing Board Meeting
DESCRIPTION:The Governing Board has responsibility for setting program eligibility standards\, defining the scope of covered healthcare benefits\, and determining payment rates for healthcare providers delivering emergency and non-emergency services to CMSP members. \nGoverning Board Meeting Agenda – September 22\, 2022
URL:https://cmspcounties.org/event/governing-board-meeting-21/
LOCATION:Hybrid: CMSP Conference Room or Zoom (Optional)\, 1545 River Park Drive\, Suite 435-A\, Sacramento\, 95815\, United States
CATEGORIES:Governing Board Meeting
END:VEVENT
BEGIN:VEVENT
DTSTART;TZID=America/Los_Angeles:20220831T090000
DTEND;TZID=America/Los_Angeles:20220831T110000
DTSTAMP:20260420T074148
CREATED:20220517T162922Z
LAST-MODIFIED:20220901T182919Z
UID:10000006-1661936400-1661943600@cmspcounties.org
SUMMARY:CMSP Planning & Benefits Committee
DESCRIPTION:The Planning and Benefits Committee focuses on current CMSP program and policy issues and future directions for the program. Included within its scope of responsibility are benefits design and coverage matters. All actions by the committee are advisory to the Governing Board\, which considers committee recommendations at its regularly scheduled meetings. \nPlanning & Benefits Committee Agenda – August 31\, 2022 \n 
URL:https://cmspcounties.org/event/cmsp-planning-benefits-committee-6/
LOCATION:CMSP Governing Board Conference Room\, 1545 River Park Drive\, Suite 435-A\, Sacramento\, CA\, 95815\, United States
CATEGORIES:Planning & Benefits Meeting
END:VEVENT
BEGIN:VEVENT
DTSTART;TZID=America/Los_Angeles:20220728T083000
DTEND;TZID=America/Los_Angeles:20220728T120000
DTSTAMP:20260420T074148
CREATED:20211008T185748Z
LAST-MODIFIED:20220729T183046Z
UID:10000009-1658997000-1659009600@cmspcounties.org
SUMMARY:Governing Board Meeting
DESCRIPTION:The Governing Board has responsibility for setting program eligibility standards\, defining the scope of covered healthcare benefits\, and determining payment rates for healthcare providers delivering emergency and non-emergency services to CMSP members. \nGoverning Board Meeting Agenda – July 28\, 2022
URL:https://cmspcounties.org/event/governing-board-meeting-20/
LOCATION:Hybrid: CMSP Conference Room or Zoom (Optional)\, 1545 River Park Drive\, Suite 435-A\, Sacramento\, 95815\, United States
CATEGORIES:Governing Board Meeting
END:VEVENT
BEGIN:VEVENT
DTSTART;TZID=America/Los_Angeles:20220526T083000
DTEND;TZID=America/Los_Angeles:20220526T120000
DTSTAMP:20260420T074148
CREATED:20211008T185646Z
LAST-MODIFIED:20220526T223829Z
UID:10000010-1653553800-1653566400@cmspcounties.org
SUMMARY:Governing Board Meeting
DESCRIPTION:The Governing Board has responsibility for setting program eligibility standards\, defining the scope of covered healthcare benefits\, and determining payment rates for healthcare providers delivering emergency and non-emergency services to CMSP members. \nGoverning Board Meeting Agenda – May 26\, 2022
URL:https://cmspcounties.org/event/governing-board-meeting-19/
LOCATION:Hybrid: CMSP Conference Room or Zoom (Optional)\, 1545 River Park Drive\, Suite 435-A\, Sacramento\, 95815\, United States
CATEGORIES:Governing Board Meeting
END:VEVENT
BEGIN:VEVENT
DTSTART;TZID=America/Los_Angeles:20220324T093000
DTEND;TZID=America/Los_Angeles:20220324T120000
DTSTAMP:20260420T074148
CREATED:20211008T185606Z
LAST-MODIFIED:20220324T231900Z
UID:10000005-1648114200-1648123200@cmspcounties.org
SUMMARY:Governing Board Meeting
DESCRIPTION:The Governing Board has responsibility for setting program eligibility standards\, defining the scope of covered healthcare benefits\, and determining payment rates for healthcare providers delivering emergency and non-emergency services to CMSP members. \nGoverning Board Meeting Agenda – March 24\, 2022
URL:https://cmspcounties.org/event/governing-board-meeting-18/
LOCATION:Zoom Meeting (see agenda for info)\, CA\, United States
CATEGORIES:Governing Board Meeting
END:VEVENT
BEGIN:VEVENT
DTSTART;TZID=America/Los_Angeles:20220127T093000
DTEND;TZID=America/Los_Angeles:20220127T120000
DTSTAMP:20260420T074148
CREATED:20211005T195207Z
LAST-MODIFIED:20220128T195014Z
UID:10000021-1643275800-1643284800@cmspcounties.org
SUMMARY:Governing Board Meeting
DESCRIPTION:The Governing Board has responsibility for setting program eligibility standards\, defining the scope of covered healthcare benefits\, and determining payment rates for healthcare providers delivering emergency and non-emergency services to CMSP members. \nGoverning Board Meeting Agenda – January 27\, 2022
URL:https://cmspcounties.org/event/governing-board-meeting-17/
LOCATION:Zoom Meeting (see agenda for info)\, CA\, United States
CATEGORIES:Governing Board Meeting
END:VEVENT
BEGIN:VEVENT
DTSTART;TZID=America/Los_Angeles:20211216T100000
DTEND;TZID=America/Los_Angeles:20211216T130000
DTSTAMP:20260420T074148
CREATED:20201218T222559Z
LAST-MODIFIED:20211217T215207Z
UID:10000020-1639648800-1639659600@cmspcounties.org
SUMMARY:Governing Board Meeting
DESCRIPTION:The Governing Board has responsibility for setting program eligibility standards\, defining the scope of covered healthcare benefits\, and determining payment rates for healthcare providers delivering emergency and non-emergency services to CMSP members. \nGoverning Board Meeting Agenda – December 16\, 2021
URL:https://cmspcounties.org/event/governing-board-meeting-16/
LOCATION:Zoom Meeting (see agenda for info)\, CA\, United States
CATEGORIES:Governing Board Meeting
END:VEVENT
BEGIN:VEVENT
DTSTART;TZID=America/Los_Angeles:20210923T100000
DTEND;TZID=America/Los_Angeles:20210923T130000
DTSTAMP:20260420T074148
CREATED:20201218T222527Z
LAST-MODIFIED:20210924T161031Z
UID:10000019-1632391200-1632402000@cmspcounties.org
SUMMARY:Governing Board Meeting
DESCRIPTION:The Governing Board has responsibility for setting program eligibility standards\, defining the scope of covered healthcare benefits\, and determining payment rates for healthcare providers delivering emergency and non-emergency services to CMSP members. \nGoverning Board Meeting Agenda
URL:https://cmspcounties.org/event/governing-board-meeting-15/
LOCATION:Zoom Meeting (see agenda for info)\, CA\, United States
CATEGORIES:Governing Board Meeting
END:VEVENT
BEGIN:VEVENT
DTSTART;TZID=America/Los_Angeles:20210722T093000
DTEND;TZID=America/Los_Angeles:20210722T130000
DTSTAMP:20260420T074148
CREATED:20201218T222502Z
LAST-MODIFIED:20210723T160058Z
UID:10000018-1626946200-1626958800@cmspcounties.org
SUMMARY:Governing Board Meeting
DESCRIPTION:The Governing Board has responsibility for setting program eligibility standards\, defining the scope of covered healthcare benefits\, and determining payment rates for healthcare providers delivering emergency and non-emergency services to CMSP members. \nGoverning Board Meeting Agenda
URL:https://cmspcounties.org/event/governing-board-meeting-14/
LOCATION:Zoom Meeting (see agenda for info)\, CA\, United States
CATEGORIES:Governing Board Meeting
END:VEVENT
BEGIN:VEVENT
DTSTART;TZID=America/Los_Angeles:20210607T100000
DTEND;TZID=America/Los_Angeles:20210607T120000
DTSTAMP:20260420T074148
CREATED:20201218T222433Z
LAST-MODIFIED:20210608T162255Z
UID:10000017-1623060000-1623067200@cmspcounties.org
SUMMARY:Governing Board Meeting
DESCRIPTION:The Governing Board has responsibility for setting program eligibility standards\, defining the scope of covered healthcare benefits\, and determining payment rates for healthcare providers delivering emergency and non-emergency services to CMSP members. \nGoverning Board Meeting Agenda \n 
URL:https://cmspcounties.org/event/governing-board-meeting-13/
LOCATION:Zoom Meeting (see agenda for info)\, CA\, United States
CATEGORIES:Governing Board Meeting
END:VEVENT
BEGIN:VEVENT
DTSTART;TZID=America/Los_Angeles:20210429T140000
DTEND;TZID=America/Los_Angeles:20210429T160000
DTSTAMP:20260420T074148
CREATED:20210310T233244Z
LAST-MODIFIED:20210430T200344Z
UID:10000011-1619704800-1619712000@cmspcounties.org
SUMMARY:CMSP Planning & Benefits Committee
DESCRIPTION:The Planning and Benefits Committee focuses on current CMSP program and policy issues and future directions for the program. Included within its scope of responsibility are benefits design and coverage matters. All actions by the committee are advisory to the Governing Board\, which considers committee recommendations at its regularly scheduled meetings. \nPlanning & Benefits Committee Agenda – April 29\, 2021 \n 
URL:https://cmspcounties.org/event/cmsp-planning-benefits-committee-5/
LOCATION:Zoom Meeting (see agenda for info)\, CA\, United States
CATEGORIES:Planning & Benefits Meeting
END:VEVENT
BEGIN:VEVENT
DTSTART;TZID=America/Los_Angeles:20210325T093000
DTEND;TZID=America/Los_Angeles:20210325T123000
DTSTAMP:20260420T074148
CREATED:20201218T222406Z
LAST-MODIFIED:20210325T225450Z
UID:10000016-1616664600-1616675400@cmspcounties.org
SUMMARY:Governing Board Meeting
DESCRIPTION:The Governing Board has responsibility for setting program eligibility standards\, defining the scope of covered healthcare benefits\, and determining payment rates for healthcare providers delivering emergency and non-emergency services to CMSP members. \nGoverning Board Meeting Agenda
URL:https://cmspcounties.org/event/governing-board-meeting-12/
LOCATION:Zoom Meeting (see agenda for info)\, CA\, United States
CATEGORIES:Governing Board Meeting
END:VEVENT
BEGIN:VEVENT
DTSTART;TZID=America/Los_Angeles:20210310T090000
DTEND;TZID=America/Los_Angeles:20210310T110000
DTSTAMP:20260420T074148
CREATED:20210108T172449Z
LAST-MODIFIED:20210310T233359Z
UID:10000012-1615366800-1615374000@cmspcounties.org
SUMMARY:CMSP Planning & Benefits Committee
DESCRIPTION:The Planning and Benefits Committee focuses on current CMSP program and policy issues and future directions for the program. Included within its scope of responsibility are benefits design and coverage matters. All actions by the committee are advisory to the Governing Board\, which considers committee recommendations at its regularly scheduled meetings. \nPlanning & Benefits Committee Agenda \n 
URL:https://cmspcounties.org/event/cmsp-planning-benefits-committee-2/
LOCATION:Zoom Meeting (see agenda for info)\, CA\, United States
CATEGORIES:Planning & Benefits Meeting
END:VEVENT
END:VCALENDAR